BEGIN:VCALENDAR
VERSION:2.0
PRODID:SchoolNow
CALSCALE:GREGORIAN
BEGIN:VEVENT
UID:e121fd64-d8b8-11e9-b7d4-121f9dc736ee
DTSTAMP:20190916T193337Z
SUMMARY:EARLY RELEASE - ALL SAU 21 Schools
URL;VALUE=URI:https://www.sau21.nh.gov/calendar/2096147/early-release-all-s
 au-21-schools
DTSTART;VALUE=DATE:20200205
DTEND;VALUE=DATE:20200206
END:VEVENT
END:VCALENDAR
