BEGIN:VCALENDAR
VERSION:2.0
PRODID:SchoolNow
CALSCALE:GREGORIAN
BEGIN:VEVENT
UID:0473f2a4-d8b9-11e9-ae8d-121f9dc736ee
DTSTAMP:20190916T193436Z
SUMMARY:South Hampton Winter Break - NO School - South Hampton
URL;VALUE=URI:https://www.sau21.nh.gov/calendar/2096148/south-hampton-winte
 r-break-no-school-south-hampton
DTSTART;VALUE=DATE:20200217
DTEND;VALUE=DATE:20200222
END:VEVENT
END:VCALENDAR
