BEGIN:VCALENDAR
VERSION:2.0
PRODID:SchoolNow
CALSCALE:GREGORIAN
BEGIN:VEVENT
UID:808b2224-d8bc-11e9-9dd7-0a472016dce4
DTSTAMP:20200121T190325Z
SUMMARY:Hampton Falls SD Deliberative Session
LOCATION:LAS Gymnasium
URL;VALUE=URI:https://www.sau21.nh.gov/calendar/2096167/hampton-falls-sd-de
 liberative-session
DTSTART:20200206T000000Z
DTEND:20200206T010000Z
END:VEVENT
END:VCALENDAR
