BEGIN:VCALENDAR
VERSION:2.0
PRODID:SchoolNow
CALSCALE:GREGORIAN
BEGIN:VEVENT
UID:96874ef4-d8bc-11e9-841a-0a472016dce4
DTSTAMP:20200131T204416Z
SUMMARY:North Hampton SD Deliberative Session
LOCATION:North Hampton School Cafeteria
URL;VALUE=URI:https://www.sau21.nh.gov/calendar/2096168/north-hampton-sd-de
 liberative-session
DTSTART:20200205T000000Z
DTEND:20200205T010000Z
END:VEVENT
END:VCALENDAR
