BEGIN:VCALENDAR
VERSION:2.0
PRODID:SchoolNow
CALSCALE:GREGORIAN
BEGIN:VEVENT
UID:bf5760d0-d8bc-11e9-bfe6-0a472016dce4
DTSTAMP:20200121T190918Z
SUMMARY:South Hampton SD Deliberative Session
LOCATION:Barnard School Gymnasium
URL;VALUE=URI:https://www.sau21.nh.gov/calendar/2096170/south-hampton-sd-de
 liberative-session
DTSTART:20200205T000000Z
DTEND:20200205T010000Z
END:VEVENT
END:VCALENDAR
