BEGIN:VCALENDAR
VERSION:2.0
PRODID:SchoolNow
CALSCALE:GREGORIAN
BEGIN:VEVENT
UID:ddcea3ca-d8bc-11e9-a151-0a472016dce4
DTSTAMP:20200121T190941Z
SUMMARY:Winnacunnet School District Deliberative Session
LOCATION:WHS Auditorium
URL;VALUE=URI:https://www.sau21.nh.gov/calendar/2096171/winnacunnet-school-
 district-deliberative-session
DTSTART:20200207T000000Z
DTEND:20200207T010000Z
END:VEVENT
END:VCALENDAR
