BEGIN:VCALENDAR
VERSION:2.0
PRODID:SchoolNow
CALSCALE:GREGORIAN
BEGIN:VEVENT
UID:1f5e7c16-d962-11e9-a29e-1201a428de28
DTSTAMP:20190917T154506Z
SUMMARY:South Hampton School Board Work Session
URL;VALUE=URI:https://www.sau21.nh.gov/calendar/2096699/south-hampton-schoo
 l-board-work-session
DTSTART:20190924T120000Z
DTEND:20190924T130000Z
ATTACH;FILENAME=sh-2019-09-24-agenda-ws.pdf;FMTTYPE=application/pdf:https:/
 /campussuite-storage.s3.amazonaws.com/prod/1558718/e7fa12dc-6862-11e9-88e9
 -0a2901a6873e/1984949/bd03a960-d961-11e9-adeb-0a290c4e91b0/file/sh-2019-09
 -24-agenda-ws.pdf
END:VEVENT
END:VCALENDAR
