BEGIN:VCALENDAR
VERSION:2.0
PRODID:SchoolNow
CALSCALE:GREGORIAN
BEGIN:VEVENT
UID:b465bae4-d963-11e9-98d0-0a70e536eca4
DTSTAMP:20190917T155626Z
SUMMARY:SAU 21 & 90 Legislative Breakfast
LOCATION:Winnacunnet High School Lecture Hall
URL;VALUE=URI:https://www.sau21.nh.gov/calendar/2096700/sau-21-90-legislati
 ve-breakfast
DTSTART:20190920T130000Z
DTEND:20190920T150000Z
END:VEVENT
END:VCALENDAR
