BEGIN:VCALENDAR
VERSION:2.0
PRODID:SchoolNow
CALSCALE:GREGORIAN
BEGIN:VEVENT
UID:1fdf9ac4-d964-11e9-9b99-129eeb6df276
DTSTAMP:20190917T155926Z
SUMMARY:LAS Addition/Renovation Dedication
URL;VALUE=URI:https://www.sau21.nh.gov/calendar/2096717/las-addition-renova
 tion-dedication
DTSTART:20190922T210000Z
DTEND:20190922T220000Z
END:VEVENT
END:VCALENDAR
