BEGIN:VCALENDAR
VERSION:2.0
PRODID:SchoolNow
CALSCALE:GREGORIAN
BEGIN:VEVENT
UID:c69d395e-dae8-11e9-8702-0aefc8bcd7e2
DTSTAMP:20191018T173206Z
SUMMARY:Winnacunnet School Board - Budget Review Work Session
URL;VALUE=URI:https://www.sau21.nh.gov/calendar/2098877/winnacunnet-school-
 board-budget-review-work-session
DTSTART:20191021T220000Z
DTEND:20191022T000000Z
ATTACH;FILENAME=w-2019-10-21-agenda-bws.pdf;FMTTYPE=application/pdf:https:/
 /campussuite-storage.s3.amazonaws.com/prod/1558718/e7fa12dc-6862-11e9-88e9
 -0a2901a6873e/1999211/095b113a-f1cd-11e9-8e55-12c3a6ab3058/file/w-2019-10-
 21-agenda-bws.pdf
END:VEVENT
END:VCALENDAR
