BEGIN:VCALENDAR
VERSION:2.0
PRODID:SchoolNow
CALSCALE:GREGORIAN
BEGIN:VEVENT
UID:f233213c-dae8-11e9-8aa6-0aefc8bcd7e2
DTSTAMP:20191029T153356Z
SUMMARY:Winnacunnet School Board Budget Review Work Session
LOCATION:Lecture Hall\, Winnacunnet High School
URL;VALUE=URI:https://www.sau21.nh.gov/calendar/2098878/winnacunnet-school-
 board-budget-review-work-session
DTSTART:20191030T220000Z
DTEND:20191031T000000Z
ATTACH;FILENAME=w-2019-10-30-agenda-bws.pdf;FMTTYPE=application/pdf:https:/
 /campussuite-storage.s3.amazonaws.com/prod/1558718/e7fa12dc-6862-11e9-88e9
 -0a2901a6873e/2005678/1813df34-fa49-11e9-a1c1-0a6f90957389/file/w-2019-10-
 30-agenda-bws.pdf
END:VEVENT
END:VCALENDAR
