BEGIN:VCALENDAR
VERSION:2.0
PRODID:SchoolNow
CALSCALE:GREGORIAN
BEGIN:VEVENT
UID:118f6c16-dae9-11e9-a9bb-0aefc8bcd7e2
DTSTAMP:20191105T142021Z
SUMMARY:Winnacunnet School Board Budget Review Meeting
URL;VALUE=URI:https://www.sau21.nh.gov/calendar/2098879/winnacunnet-school-
 board-budget-review-work-session
DTSTART:20191106T230000Z
DTEND:20191107T010000Z
ATTACH;FILENAME=w-2019-11-06-agenda-bws.pdf;FMTTYPE=application/pdf:https:/
 /campussuite-storage.s3.amazonaws.com/prod/1558718/e7fa12dc-6862-11e9-88e9
 -0a2901a6873e/2009643/362bfda0-fd85-11e9-8c6b-12f6ac83a1e4/file/w-2019-11-
 06-agenda-bws.pdf
END:VEVENT
END:VCALENDAR
