BEGIN:VCALENDAR
VERSION:2.0
PRODID:SchoolNow
CALSCALE:GREGORIAN
BEGIN:VEVENT
UID:dce6f3ac-dae9-11e9-8393-124a98991782
DTSTAMP:20190919T142917Z
SUMMARY:Winnacunnet Budget Committee Meeting
URL;VALUE=URI:https://www.sau21.nh.gov/calendar/2098881/winnacunnet-budget-
 committee-meeting
DTSTART:20191204T230000Z
DTEND:20191205T020000Z
END:VEVENT
END:VCALENDAR
