BEGIN:VCALENDAR
VERSION:2.0
PRODID:SchoolNow
CALSCALE:GREGORIAN
BEGIN:VEVENT
UID:fa7ff4c2-dae9-11e9-a8f7-124a98991782
DTSTAMP:20190919T143007Z
SUMMARY:Winnacunnet Budget Committee Meeting
URL;VALUE=URI:https://www.sau21.nh.gov/calendar/2098882/winnacunnet-budget-
 committee-meeting
DTSTART:20191211T230000Z
DTEND:20191212T020000Z
END:VEVENT
END:VCALENDAR
