BEGIN:VCALENDAR
VERSION:2.0
PRODID:SchoolNow
CALSCALE:GREGORIAN
BEGIN:VEVENT
UID:8b346d9e-dedd-11e9-9cd4-12905e821070
DTSTAMP:20190924T153058Z
SUMMARY:WHS Flu Shot Clinic
DESCRIPTION:WHS Auditorium
LOCATION:Winnacunnet High School - 1 Alumni Drive\, Hampton NH 03842
URL;VALUE=URI:https://www.sau21.nh.gov/calendar/2103673/whs-flu-shot-clinic
DTSTART:20191004T170000Z
DTEND:20191004T204500Z
END:VEVENT
END:VCALENDAR
