BEGIN:VCALENDAR
VERSION:2.0
PRODID:SchoolNow
CALSCALE:GREGORIAN
BEGIN:VEVENT
UID:30851ac8-dede-11e9-9ed2-12b172756d40
DTSTAMP:20190924T152641Z
SUMMARY:North Hampton Flu Shot Clinic
DESCRIPTION:Nurse's Office
LOCATION:North Hampton School - 201 Atlantic Avenue\, North Hampton\, NH 03
 862
URL;VALUE=URI:https://www.sau21.nh.gov/calendar/2103676/north-hampton-flu-s
 hot-clinic
DTSTART:20191009T180000Z
DTEND:20191009T194500Z
END:VEVENT
END:VCALENDAR
