BEGIN:VCALENDAR
VERSION:2.0
PRODID:SchoolNow
CALSCALE:GREGORIAN
BEGIN:VEVENT
UID:aa425c0e-dede-11e9-a902-12b172756d40
DTSTAMP:20190924T153019Z
SUMMARY:Hampton Falls Flu Shot Clinic
DESCRIPTION:Nurse's Office
LOCATION:Lincoln Akerman School - 8 Exeter Road\, Hampton Falls\, NH 03844
URL;VALUE=URI:https://www.sau21.nh.gov/calendar/2103687/hampton-falls-flu-s
 hot-clinic
DTSTART:20191009T120000Z
DTEND:20191009T141500Z
END:VEVENT
END:VCALENDAR
