BEGIN:VCALENDAR
VERSION:2.0
PRODID:SchoolNow
CALSCALE:GREGORIAN
BEGIN:VEVENT
UID:0037de72-dedf-11e9-ae3e-12b172756d40
DTSTAMP:20190924T153046Z
SUMMARY:Seabrook Flu Shot Clinic
DESCRIPTION:Nurse's Office
LOCATION:Seabrook Elementary School - 256 Walton Road\, Seabrook\, NH 03874
URL;VALUE=URI:https://www.sau21.nh.gov/calendar/2103688/seabrook-flu-shot-c
 linic
DTSTART:20191018T181500Z
DTEND:20191018T201500Z
END:VEVENT
END:VCALENDAR
