BEGIN:VCALENDAR
VERSION:2.0
PRODID:SchoolNow
CALSCALE:GREGORIAN
BEGIN:VEVENT
UID:b8c82ada-e463-11e9-834f-12b9d00479fe
DTSTAMP:20191029T153843Z
SUMMARY:North Hampton School / PAL - Halloween Howl
URL;VALUE=URI:https://www.sau21.nh.gov/calendar/2110332/north-hampton-schoo
 l-pal-halloween-howl
DTSTART:20191025T210000Z
DTEND:20191026T000000Z
END:VEVENT
END:VCALENDAR
