BEGIN:VCALENDAR
VERSION:2.0
PRODID:SchoolNow
CALSCALE:GREGORIAN
BEGIN:VEVENT
UID:047a618c-e464-11e9-8bd0-1214b9857562
DTSTAMP:20191001T171902Z
SUMMARY:North Hampton School Talent Show - Grades 1-8
LOCATION:Winnacunnet High School Auditorium
URL;VALUE=URI:https://www.sau21.nh.gov/calendar/2110335/north-hampton-schoo
 l-talent-show-grades-1-8
DTSTART:20191108T223000Z
DTEND:20191109T003000Z
END:VEVENT
END:VCALENDAR
