BEGIN:VCALENDAR
VERSION:2.0
PRODID:SchoolNow
CALSCALE:GREGORIAN
BEGIN:VEVENT
UID:6a8bf35e-e46f-11e9-bd3d-12a13ffbdcaa
DTSTAMP:20191001T171759Z
SUMMARY:North Hampton School Holiday Choral Concert
LOCATION:North Hampton School Cafeteria
URL;VALUE=URI:https://www.sau21.nh.gov/calendar/2110359/north-hampton-schoo
 l-holiday-choral-concert
DTSTART:20191211T000000Z
DTEND:20191211T020000Z
END:VEVENT
END:VCALENDAR
