BEGIN:VCALENDAR
VERSION:2.0
PRODID:SchoolNow
CALSCALE:GREGORIAN
BEGIN:VEVENT
UID:00e98870-e6a5-11e9-bb1b-1231a296bbb6
DTSTAMP:20191018T201941Z
SUMMARY:North Hampton School Board - Budget Review Work Session
LOCATION:North Hampton School
URL;VALUE=URI:https://www.sau21.nh.gov/calendar/2114823/north-hampton-schoo
 l-board-budget-review-work-session
DTSTART:20191025T140000Z
DTEND:20191025T160000Z
ATTACH;FILENAME=nh-2019-10-25-agenda-bws.pdf;FMTTYPE=application/pdf:https:
 //campussuite-storage.s3.amazonaws.com/prod/1558718/e7fa12dc-6862-11e9-88e
 9-0a2901a6873e/1999350/78d9a4ce-f1e4-11e9-938c-1278eb436728/file/nh-2019-1
 0-25-agenda-bws.pdf
END:VEVENT
END:VCALENDAR
