BEGIN:VCALENDAR
VERSION:2.0
PRODID:SchoolNow
CALSCALE:GREGORIAN
BEGIN:VEVENT
UID:29dc1fe0-e6a5-11e9-b57f-1231a296bbb6
DTSTAMP:20191029T153405Z
SUMMARY:North Hampton School Board Budget Review Work Session
LOCATION:North Hampton School
URL;VALUE=URI:https://www.sau21.nh.gov/calendar/2114824/north-hampton-schoo
 l-board-budget-review-work-session
DTSTART:20191031T120000Z
DTEND:20191031T140000Z
ATTACH;FILENAME=nh-2019-10-31-agenda-bws.pdf;FMTTYPE=application/pdf:https:
 //campussuite-storage.s3.amazonaws.com/prod/1558718/e7fa12dc-6862-11e9-88e
 9-0a2901a6873e/2005672/bfb55bfc-fa47-11e9-a0eb-12672b04e482/file/nh-2019-1
 0-31-agenda-bws.pdf
END:VEVENT
END:VCALENDAR
