BEGIN:VCALENDAR
VERSION:2.0
PRODID:SchoolNow
CALSCALE:GREGORIAN
BEGIN:VEVENT
UID:fdfa07f6-e6a5-11e9-b063-0a24ac5d0208
DTSTAMP:20191202T011521Z
SUMMARY:Canceled - South Hampton School Board Budget Review Meeting
LOCATION:Barnard School
URL;VALUE=URI:https://www.sau21.nh.gov/calendar/2114826/south-hampton-schoo
 l-board-budget-review-work-session
DTSTART:20191202T130000Z
DTEND:20191202T150000Z
ATTACH;FILENAME=sh-2019-12-02-agenda-brm.pdf;FMTTYPE=application/pdf:https:
 //campussuite-storage.s3.amazonaws.com/prod/1558718/e7fa12dc-6862-11e9-88e
 9-0a2901a6873e/2018957/b45900da-0c9c-11ea-a645-0a54a172dc2f/file/sh-2019-1
 2-02-agenda-brm.pdf
END:VEVENT
END:VCALENDAR
