BEGIN:VCALENDAR
VERSION:2.0
PRODID:SchoolNow
CALSCALE:GREGORIAN
BEGIN:VEVENT
UID:2e399fee-e6a6-11e9-8ac1-0a24ac5d0208
DTSTAMP:20191204T193018Z
SUMMARY:South Hampton School Board Budget Review Work Session
LOCATION:Barnard School
URL;VALUE=URI:https://www.sau21.nh.gov/calendar/2114827/south-hampton-schoo
 l-board-budget-review-work-session
DTSTART:20191209T130000Z
DTEND:20191209T150000Z
ATTACH;FILENAME=sh-2019-12-09-agenda-brm.pdf;FMTTYPE=application/pdf:https:
 //campussuite-storage.s3.amazonaws.com/prod/1558718/e7fa12dc-6862-11e9-88e
 9-0a2901a6873e/2022558/d9178bba-16cb-11ea-aad9-0ae9defcc633/file/sh-2019-1
 2-09-agenda-brm.pdf
END:VEVENT
END:VCALENDAR
