BEGIN:VCALENDAR
VERSION:2.0
PRODID:SchoolNow
CALSCALE:GREGORIAN
BEGIN:VEVENT
UID:325fbe54-e6a7-11e9-94c4-1231a296bbb6
DTSTAMP:20191104T143101Z
SUMMARY:Hampton Falls LAS Tiger Trot 5K
URL;VALUE=URI:https://www.sau21.nh.gov/calendar/2114829/hampton-falls-las-t
 iger-trot-5k
DTSTART:20191123T143000Z
DTEND:20191123T160000Z
ATTACH;FILENAME=;FMTTYPE=application/octet-stream:
END:VEVENT
END:VCALENDAR
