BEGIN:VCALENDAR
VERSION:2.0
PRODID:SchoolNow
CALSCALE:GREGORIAN
BEGIN:VEVENT
UID:0cec885e-e919-11e9-9eed-121ea90d904a
DTSTAMP:20191007T154221Z
SUMMARY:WHS Trimester 1 Parent Conferences
LOCATION:Winnacunnet High School
URL;VALUE=URI:https://www.sau21.nh.gov/calendar/2115959/whs-trimester-1-par
 ent-conferences
DTSTART:20191010T210000Z
DTEND:20191011T000000Z
END:VEVENT
END:VCALENDAR
