BEGIN:VCALENDAR
VERSION:2.0
PRODID:SchoolNow
CALSCALE:GREGORIAN
BEGIN:VEVENT
UID:47a543fa-e919-11e9-b615-12c258de611c
DTSTAMP:20191007T154359Z
SUMMARY:SAT Exams
LOCATION:Winnacunnet High School
URL;VALUE=URI:https://www.sau21.nh.gov/calendar/2115960/sat-exams
DTSTART;VALUE=DATE:20191102
DTEND;VALUE=DATE:20191103
END:VEVENT
END:VCALENDAR
