BEGIN:VCALENDAR
VERSION:2.0
PRODID:SchoolNow
CALSCALE:GREGORIAN
BEGIN:VEVENT
UID:d73b86dc-e919-11e9-8bd9-12c258de611c
DTSTAMP:20191115T210600Z
SUMMARY:Winnacunnet Presents "PUFFS" - Fall Play
LOCATION:WHS Auditorium
URL;VALUE=URI:https://www.sau21.nh.gov/calendar/2115963/winnacunnet-present
 s-puffs-fall-play
DTSTART:20191116T000000Z
DTEND:20191116T023000Z
ATTACH;FILENAME=PUFFS poster-WHS Fall play.pdf;FMTTYPE=application/pdf:http
 s://campussuite-storage.s3.amazonaws.com/prod/1558718/e7fa12dc-6862-11e9-8
 8e9-0a2901a6873e/2016462/b4d6afd6-07eb-11ea-a8dd-1227da5accef/file/PUFFS p
 oster-WHS Fall play.pdf
END:VEVENT
END:VCALENDAR
