BEGIN:VCALENDAR
VERSION:2.0
PRODID:SchoolNow
CALSCALE:GREGORIAN
BEGIN:VEVENT
UID:7f24fca2-e91a-11e9-8a18-0af659f8ec9c
DTSTAMP:20191115T210612Z
SUMMARY:Winnacunnet Presents "PUFFS" - Fall Play
LOCATION:WHS Auditorium
URL;VALUE=URI:https://www.sau21.nh.gov/calendar/2115965/winnacunnet-present
 s-puffs-fall-play
DTSTART:20191117T190000Z
DTEND:20191117T210000Z
ATTACH;FILENAME=PUFFS poster-WHS Fall play.pdf;FMTTYPE=application/pdf:http
 s://campussuite-storage.s3.amazonaws.com/prod/1558718/e7fa12dc-6862-11e9-8
 8e9-0a2901a6873e/2016462/b4d6afd6-07eb-11ea-a8dd-1227da5accef/file/PUFFS p
 oster-WHS Fall play.pdf
END:VEVENT
END:VCALENDAR
