BEGIN:VCALENDAR
VERSION:2.0
PRODID:SchoolNow
CALSCALE:GREGORIAN
BEGIN:VEVENT
UID:afc794e6-e91a-11e9-aa13-0af659f8ec9c
DTSTAMP:20191007T155403Z
SUMMARY:WHS Holiday Concert
LOCATION:WHS Auditorium
URL;VALUE=URI:https://www.sau21.nh.gov/calendar/2115966/whs-holiday-concert
DTSTART:20191213T000000Z
DTEND:20191213T020000Z
END:VEVENT
END:VCALENDAR
