BEGIN:VCALENDAR
VERSION:2.0
PRODID:SchoolNow
CALSCALE:GREGORIAN
BEGIN:VEVENT
UID:d3605b90-e91a-11e9-bc90-0af659f8ec9c
DTSTAMP:20191007T155503Z
SUMMARY:ACT Exam
LOCATION:Winnacunnet High School
URL;VALUE=URI:https://www.sau21.nh.gov/calendar/2115967/act-exam
DTSTART;VALUE=DATE:20191214
DTEND;VALUE=DATE:20191215
END:VEVENT
END:VCALENDAR
