BEGIN:VCALENDAR
VERSION:2.0
PRODID:SchoolNow
CALSCALE:GREGORIAN
BEGIN:VEVENT
UID:0317e510-e91b-11e9-9f75-12ef1cc28afc
DTSTAMP:20191007T155623Z
SUMMARY:WHS Talent Extravaganza
LOCATION:WHS Auditorium
URL;VALUE=URI:https://www.sau21.nh.gov/calendar/2115968/whs-talent-extravag
 anza
DTSTART:20200112T000000Z
DTEND:20200112T020000Z
END:VEVENT
END:VCALENDAR
