BEGIN:VCALENDAR
VERSION:2.0
PRODID:SchoolNow
CALSCALE:GREGORIAN
BEGIN:VEVENT
UID:878086f4-e92a-11e9-84b0-0a70e966bbb0
DTSTAMP:20191007T174944Z
SUMMARY:Seabrook Parent Conferences
LOCATION:Seabrook Elementary and Middle School
URL;VALUE=URI:https://www.sau21.nh.gov/calendar/2116032/sms-parent-conferen
 ces
DTSTART:20191016T190000Z
DTEND:20191016T220000Z
END:VEVENT
END:VCALENDAR
