BEGIN:VCALENDAR
VERSION:2.0
PRODID:SchoolNow
CALSCALE:GREGORIAN
BEGIN:VEVENT
UID:9e8dd040-e92a-11e9-a9cc-0a70e966bbb0
DTSTAMP:20191007T175003Z
SUMMARY:Seabrook Parent Conferences
LOCATION:Seabrook Elementary and Middle School
URL;VALUE=URI:https://www.sau21.nh.gov/calendar/2116033/sms-parent-conferen
 ces
DTSTART:20191017T190000Z
DTEND:20191017T220000Z
END:VEVENT
END:VCALENDAR
