BEGIN:VCALENDAR
VERSION:2.0
PRODID:SchoolNow
CALSCALE:GREGORIAN
BEGIN:VEVENT
UID:0e48ce30-e92b-11e9-922a-0aca68933efa
DTSTAMP:20191007T175114Z
SUMMARY:Seabrook Grade 4 Music Concert
URL;VALUE=URI:https://www.sau21.nh.gov/calendar/2116034/seabrook-grade-4-mu
 sic-concert
DTSTART:20191114T230000Z
DTEND:20191115T000000Z
END:VEVENT
END:VCALENDAR
