BEGIN:VCALENDAR
VERSION:2.0
PRODID:SchoolNow
CALSCALE:GREGORIAN
BEGIN:VEVENT
UID:3199dec4-e92b-11e9-a25e-0aca68933efa
DTSTAMP:20191007T175213Z
SUMMARY:Seabrook Grade 3 Music Concert
URL;VALUE=URI:https://www.sau21.nh.gov/calendar/2116035/seabrook-grade-3-mu
 sic-concert
DTSTART:20191212T230000Z
DTEND:20191213T000000Z
END:VEVENT
END:VCALENDAR
