BEGIN:VCALENDAR
VERSION:2.0
PRODID:SchoolNow
CALSCALE:GREGORIAN
BEGIN:VEVENT
UID:932c0e96-e92b-11e9-8442-121ea90d904a
DTSTAMP:20191007T175457Z
SUMMARY:SH Parent Conferences
LOCATION:Barnard School
URL;VALUE=URI:https://www.sau21.nh.gov/calendar/2116036/sh-parent-conferenc
 es
DTSTART:20191016T190000Z
DTEND:20191016T200000Z
END:VEVENT
END:VCALENDAR
