BEGIN:VCALENDAR
VERSION:2.0
PRODID:SchoolNow
CALSCALE:GREGORIAN
BEGIN:VEVENT
UID:0e406b2c-e92c-11e9-864e-0a70e966bbb0
DTSTAMP:20191007T175823Z
SUMMARY:NHS Picture Retakes
LOCATION:North Hampton School
URL;VALUE=URI:https://www.sau21.nh.gov/calendar/2116037/nhs-picture-retakes
DTSTART:20191029T123000Z
DTEND:20191029T140000Z
END:VEVENT
END:VCALENDAR
