BEGIN:VCALENDAR
VERSION:2.0
PRODID:SchoolNow
CALSCALE:GREGORIAN
BEGIN:VEVENT
UID:4de7388c-e92c-11e9-b691-0a70e966bbb0
DTSTAMP:20191007T180025Z
SUMMARY:LAS Picture Retakes
LOCATION:Lincoln Akerman School
URL;VALUE=URI:https://www.sau21.nh.gov/calendar/2116038/las-picture-retakes
DTSTART:20191024T123000Z
DTEND:20191025T035900Z
END:VEVENT
END:VCALENDAR
