BEGIN:VCALENDAR
VERSION:2.0
PRODID:SchoolNow
CALSCALE:GREGORIAN
BEGIN:VEVENT
UID:874b921e-fb0e-11e9-b79e-0a5103580271
DTSTAMP:20191202T011534Z
SUMMARY:Canceled - Hampton Falls School Board Budget Review Meeting
LOCATION:Lincoln Akerman School
URL;VALUE=URI:https://www.sau21.nh.gov/calendar/2135841/hampton-falls-schoo
 l-board-budget-review-work-session
DTSTART:20191202T230000Z
DTEND:20191203T013000Z
ATTACH;FILENAME=hf-2019-12-02-agenda-brm.pdf;FMTTYPE=application/pdf:https:
 //campussuite-storage.s3.amazonaws.com/prod/1558718/e7fa12dc-6862-11e9-88e
 9-0a2901a6873e/2018956/85984d64-0c9c-11ea-a1be-0a54a172dc2f/file/hf-2019-1
 2-02-agenda-brm.pdf
END:VEVENT
END:VCALENDAR
