BEGIN:VCALENDAR
VERSION:2.0
PRODID:SchoolNow
CALSCALE:GREGORIAN
BEGIN:VEVENT
UID:a9389de0-fb0e-11e9-8351-0a5103580271
DTSTAMP:20191204T193049Z
SUMMARY:Hampton Falls School Board Budget Review Work Session
LOCATION:Lincoln Akerman School
URL;VALUE=URI:https://www.sau21.nh.gov/calendar/2135844/hampton-falls-schoo
 l-board-budget-review-work-session
DTSTART:20191209T230000Z
DTEND:20191210T013000Z
ATTACH;FILENAME=hf-2019-12-09-agenda-brm.pdf;FMTTYPE=application/pdf:https:
 //campussuite-storage.s3.amazonaws.com/prod/1558718/e7fa12dc-6862-11e9-88e
 9-0a2901a6873e/2022554/54ff5ace-16cb-11ea-90c6-0ae9defcc633/file/hf-2019-1
 2-09-agenda-brm.pdf
END:VEVENT
END:VCALENDAR
