BEGIN:VCALENDAR
VERSION:2.0
PRODID:SchoolNow
CALSCALE:GREGORIAN
BEGIN:VEVENT
UID:856b552c-0ba0-11ea-a9a0-0a162b4b72c5
DTSTAMP:20191120T141744Z
SUMMARY:Seabrook School Board Budget Review Meeting
LOCATION:Seabrook Middle School
URL;VALUE=URI:https://www.sau21.nh.gov/calendar/2148738/seabrook-school-boa
 rd-budget-review-meeting
DTSTART:20191119T223000Z
DTEND:20191120T003000Z
ATTACH;FILENAME=s-2019-11-19-agenda-brm.pdf;FMTTYPE=application/pdf:https:/
 /campussuite-storage.s3.amazonaws.com/prod/1558718/e7fa12dc-6862-11e9-88e9
 -0a2901a6873e/2015600/10874294-06fe-11ea-86c6-127e7f4750c9/file/s-2019-11-
 19-agenda-brm.pdf
END:VEVENT
END:VCALENDAR
