BEGIN:VCALENDAR
VERSION:2.0
PRODID:SchoolNow
CALSCALE:GREGORIAN
BEGIN:VEVENT
UID:120c52d0-178e-11ea-80b7-12853291b737
DTSTAMP:20191205T183554Z
SUMMARY:WHS - Chamber Singers Perfomance
LOCATION:Hampton Congregational Church on Winnacunnet Road
URL;VALUE=URI:https://www.sau21.nh.gov/calendar/2155648/whs-chamber-singers
 -perfomance
DTSTART:20191206T000000Z
DTEND:20191206T013000Z
END:VEVENT
END:VCALENDAR
