BEGIN:VCALENDAR
VERSION:2.0
PRODID:SchoolNow
CALSCALE:GREGORIAN
BEGIN:VEVENT
UID:ebf2f9f4-178e-11ea-accf-0affdcf9dadd
DTSTAMP:20191205T184415Z
SUMMARY:WHS Marching Band @ the Hampton Christmas Parade
URL;VALUE=URI:https://www.sau21.nh.gov/calendar/2155652/whs-marching-bank-t
 he-hampton-christmas-parade
DTSTART:20191207T180000Z
DTEND:20191207T193700Z
END:VEVENT
END:VCALENDAR
