BEGIN:VCALENDAR
VERSION:2.0
PRODID:SchoolNow
CALSCALE:GREGORIAN
BEGIN:VEVENT
UID:22e49bb6-178f-11ea-bad2-0a6bb2c8aa7b
DTSTAMP:20191205T184332Z
SUMMARY:WHS Chamber Singers performing at Depot Square
URL;VALUE=URI:https://www.sau21.nh.gov/calendar/2155653/whs-chamber-singers
 -performing-at-depot-square
DTSTART:20191207T171500Z
DTEND:20191207T180000Z
END:VEVENT
END:VCALENDAR
