BEGIN:VCALENDAR
VERSION:2.0
PRODID:SchoolNow
CALSCALE:GREGORIAN
BEGIN:VEVENT
UID:45b24406-1a8f-11ea-9158-0acff22bfa2d
DTSTAMP:20191209T142204Z
SUMMARY:WHS Chamber Singers and Jazz Band Performing @ the Community Oven
URL;VALUE=URI:https://www.sau21.nh.gov/calendar/2157137/whs-chamber-singers
 -and-jazz-band-performing-the-community-oven
DTSTART:20191209T230000Z
DTEND:20191210T010000Z
END:VEVENT
END:VCALENDAR
