BEGIN:VCALENDAR
VERSION:2.0
PRODID:SchoolNow
CALSCALE:GREGORIAN
BEGIN:VEVENT
UID:af98dde4-1a8f-11ea-806e-0a5c9c31e0d5
DTSTAMP:20191209T142501Z
SUMMARY:WHS - Chamber Singers caroling as part of Strawberry Banke's Candle
  Stroll
URL;VALUE=URI:https://www.sau21.nh.gov/calendar/2157138/whs-chamber-singers
 -caroling-as-part-of-strawberry-bankes-candle-stroll
DTSTART:20191215T010000Z
DTEND:20191215T020000Z
END:VEVENT
END:VCALENDAR
