BEGIN:VCALENDAR
VERSION:2.0
PRODID:SchoolNow
CALSCALE:GREGORIAN
BEGIN:VEVENT
UID:b292e0c4-1cfd-11ea-a414-129ffe05d3a9
DTSTAMP:20191212T163733Z
SUMMARY:WHS Budget Committee Meeting
URL;VALUE=URI:https://www.sau21.nh.gov/calendar/2159283/whs-budget-committe
 e-meeting
DTSTART:20200115T233000Z
DTEND:20200116T000000Z
ATTACH;FILENAME=WHS BudComAgenda  2020-2021 Budget Review-revised-2019-12-1
 2.pdf;FMTTYPE=application/pdf:https://campussuite-storage.s3.amazonaws.com
 /prod/1558718/e7fa12dc-6862-11e9-88e9-0a2901a6873e/2026374/a85702fc-1cfd-1
 1ea-a77f-129ffe05d3a9/file/WHS BudComAgenda  2020-2021 Budget Review-revis
 ed-2019-12-12.pdf
END:VEVENT
END:VCALENDAR
