BEGIN:VCALENDAR
VERSION:2.0
PRODID:SchoolNow
CALSCALE:GREGORIAN
BEGIN:VEVENT
UID:e319ae94-1cfd-11ea-adf0-129ffe05d3a9
DTSTAMP:20191212T163855Z
SUMMARY:WHS Public Hearing on Proposed 2020-2021 Budget
LOCATION:WHS Lecture Hall
URL;VALUE=URI:https://www.sau21.nh.gov/calendar/2159284/whs-public-hearing-
 on-proposed-2020-2021-budget
DTSTART:20200116T000000Z
DTEND:20200116T003000Z
ATTACH;FILENAME=2019-12-12-Budget Public Hearing Notice-whs.pdf;FMTTYPE=app
 lication/pdf:https://campussuite-storage.s3.amazonaws.com/prod/1558718/e7f
 a12dc-6862-11e9-88e9-0a2901a6873e/2026375/d80554fe-1cfd-11ea-93c1-129ffe05
 d3a9/file/2019-12-12-Budget Public Hearing Notice-whs.pdf
END:VEVENT
END:VCALENDAR
